BEGIN:VCALENDAR
VERSION:2.0
PRODID:-//Joyful Choir - ECPv6.15.20//NONSGML v1.0//EN
CALSCALE:GREGORIAN
METHOD:PUBLISH
X-WR-CALNAME:Joyful Choir
X-ORIGINAL-URL:https://joyfulchoir.dk
X-WR-CALDESC:Begivenheder for Joyful Choir
REFRESH-INTERVAL;VALUE=DURATION:PT1H
X-Robots-Tag:noindex
X-PUBLISHED-TTL:PT1H
BEGIN:VTIMEZONE
TZID:Europe/Copenhagen
BEGIN:DAYLIGHT
TZOFFSETFROM:+0100
TZOFFSETTO:+0200
TZNAME:CEST
DTSTART:20240331T010000
END:DAYLIGHT
BEGIN:STANDARD
TZOFFSETFROM:+0200
TZOFFSETTO:+0100
TZNAME:CET
DTSTART:20241027T010000
END:STANDARD
BEGIN:DAYLIGHT
TZOFFSETFROM:+0100
TZOFFSETTO:+0200
TZNAME:CEST
DTSTART:20250330T010000
END:DAYLIGHT
BEGIN:STANDARD
TZOFFSETFROM:+0200
TZOFFSETTO:+0100
TZNAME:CET
DTSTART:20251026T010000
END:STANDARD
BEGIN:DAYLIGHT
TZOFFSETFROM:+0100
TZOFFSETTO:+0200
TZNAME:CEST
DTSTART:20260329T010000
END:DAYLIGHT
BEGIN:STANDARD
TZOFFSETFROM:+0200
TZOFFSETTO:+0100
TZNAME:CET
DTSTART:20261025T010000
END:STANDARD
END:VTIMEZONE
BEGIN:VEVENT
DTSTART;TZID=Europe/Copenhagen:20250402T180000
DTEND;TZID=Europe/Copenhagen:20250402T213000
DTSTAMP:20260421T120923
CREATED:20241216T045852Z
LAST-MODIFIED:20241216T045852Z
UID:10000051-1743616800-1743629400@joyfulchoir.dk
SUMMARY:Fælles koncert Joyful Choir & Couragekoret
DESCRIPTION:
URL:https://joyfulchoir.dk/index.php/event/faelles-koncert-joyful-choir-couragekoret/
LOCATION:Bregnet Kirke\, Rønde\, Midtjylland\, 8410\, Denmark
CATEGORIES:Fælles,Koncert
ORGANIZER;CN="Joyful Choir":MAILTO:info@joyfulchoir.dk
GEO:56.274444;10.467222
END:VEVENT
BEGIN:VEVENT
DTSTART;TZID=Europe/Copenhagen:20250331T190000
DTEND;TZID=Europe/Copenhagen:20250331T213000
DTSTAMP:20260421T120923
CREATED:20241216T045405Z
LAST-MODIFIED:20250112T165447Z
UID:10000050-1743447600-1743456600@joyfulchoir.dk
SUMMARY:Generalprøve i Bregnet Kirke
DESCRIPTION:
URL:https://joyfulchoir.dk/index.php/event/koroevning-i-bregnet-kirke/
LOCATION:Bregnet Kirke\, Rønde\, Midtjylland\, 8410\, Denmark
CATEGORIES:Korøvning
ORGANIZER;CN="Joyful Choir":MAILTO:info@joyfulchoir.dk
GEO:56.274444;10.467222
END:VEVENT
END:VCALENDAR