BEGIN:VCALENDAR
VERSION:2.0
PRODID:-//Joyful Choir - ECPv6.15.20//NONSGML v1.0//EN
CALSCALE:GREGORIAN
METHOD:PUBLISH
X-ORIGINAL-URL:https://joyfulchoir.dk
X-WR-CALDESC:Begivenheder for Joyful Choir
REFRESH-INTERVAL;VALUE=DURATION:PT1H
X-Robots-Tag:noindex
X-PUBLISHED-TTL:PT1H
BEGIN:VTIMEZONE
TZID:Europe/Copenhagen
BEGIN:DAYLIGHT
TZOFFSETFROM:+0100
TZOFFSETTO:+0200
TZNAME:CEST
DTSTART:20240331T010000
END:DAYLIGHT
BEGIN:STANDARD
TZOFFSETFROM:+0200
TZOFFSETTO:+0100
TZNAME:CET
DTSTART:20241027T010000
END:STANDARD
BEGIN:DAYLIGHT
TZOFFSETFROM:+0100
TZOFFSETTO:+0200
TZNAME:CEST
DTSTART:20250330T010000
END:DAYLIGHT
BEGIN:STANDARD
TZOFFSETFROM:+0200
TZOFFSETTO:+0100
TZNAME:CET
DTSTART:20251026T010000
END:STANDARD
BEGIN:DAYLIGHT
TZOFFSETFROM:+0100
TZOFFSETTO:+0200
TZNAME:CEST
DTSTART:20260329T010000
END:DAYLIGHT
BEGIN:STANDARD
TZOFFSETFROM:+0200
TZOFFSETTO:+0100
TZNAME:CET
DTSTART:20261025T010000
END:STANDARD
BEGIN:DAYLIGHT
TZOFFSETFROM:+0100
TZOFFSETTO:+0200
TZNAME:CEST
DTSTART:20270328T010000
END:DAYLIGHT
BEGIN:STANDARD
TZOFFSETFROM:+0200
TZOFFSETTO:+0100
TZNAME:CET
DTSTART:20271031T010000
END:STANDARD
END:VTIMEZONE
BEGIN:VEVENT
DTSTART;TZID=Europe/Copenhagen:20260324T180000
DTEND;TZID=Europe/Copenhagen:20260324T220000
DTSTAMP:20260423T160145
CREATED:20251031T104427Z
LAST-MODIFIED:20260114T084408Z
UID:10000084-1774375200-1774389600@joyfulchoir.dk
SUMMARY:Kortræf
DESCRIPTION:
URL:https://joyfulchoir.dk/index.php/event/koroevning-47/
LOCATION:Pavilionen\, Grenaa\, Kærvej 11\, Grenaa\, Midtjylland\, 8500\, Denmark
CATEGORIES:Koncert
ORGANIZER;CN="Joyful Choir":MAILTO:info@joyfulchoir.dk
GEO:56.4132964;10.8684829
X-APPLE-STRUCTURED-LOCATION;VALUE=URI;X-ADDRESS=Pavilionen Grenaa Kærvej 11 Grenaa Midtjylland 8500 Denmark;X-APPLE-RADIUS=500;X-TITLE=Kærvej 11:geo:10.8684829,56.4132964
END:VEVENT
BEGIN:VEVENT
DTSTART;TZID=Europe/Copenhagen:20250325T180000
DTEND;TZID=Europe/Copenhagen:20250325T223000
DTSTAMP:20260423T160145
CREATED:20241216T044416Z
LAST-MODIFIED:20250130T114131Z
UID:10000049-1742925600-1742941800@joyfulchoir.dk
SUMMARY:Kortræf i Grenaa
DESCRIPTION:Der er individuel opvarmning for korene mellem kl. 18 og 19 (25 min til hvert kor) og så starter programmet kl. 19.00-22.30 ca.\nHvert kor har 12 minutter effektiv tid på scenen\, hvilket svarer til ca. 3 korsatser.\nI start marts modtager I en ny mail med pris\, kontornr til tilmelding\, programoversigt mm.
URL:https://joyfulchoir.dk/index.php/event/kortraef-i-grenaa/
LOCATION:Pavilionen\, Grenaa\, Kærvej 11\, Grenaa\, Midtjylland\, 8500\, Denmark
CATEGORIES:Diverse,Fælles,Forestilling,Koncert
GEO:56.4132964;10.8684829
X-APPLE-STRUCTURED-LOCATION;VALUE=URI;X-ADDRESS=Pavilionen Grenaa Kærvej 11 Grenaa Midtjylland 8500 Denmark;X-APPLE-RADIUS=500;X-TITLE=Kærvej 11:geo:10.8684829,56.4132964
END:VEVENT
END:VCALENDAR